BEGIN:VCALENDAR
VERSION:2.0
PRODID:-//VfB Gisingen - ECPv4.5.7//NONSGML v1.0//EN
CALSCALE:GREGORIAN
METHOD:PUBLISH
X-WR-CALNAME:VfB Gisingen
X-ORIGINAL-URL:http://www.vfbgisingen.de
X-WR-CALDESC:Events for VfB Gisingen
BEGIN:VEVENT
DTSTART;VALUE=DATE:20160726
DTEND;VALUE=DATE:20160726
DTSTAMP:20260422T115443
CREATED:20160726T131748Z
LAST-MODIFIED:20160726T131748Z
UID:3019-1469491200-1469577599@www.vfbgisingen.de
SUMMARY:Testspiel 1. Mannschaft
DESCRIPTION:Testspiel gegen SV Wehrden. Anstoß 19:00 Uhr.\n
URL:http://www.vfbgisingen.de/event/testspiel-1-mannschaft/
LOCATION:Kleine Bergstraße\, Völklingen-Wehrden \, Saarland\, 66333 \, Deutschland
END:VEVENT
END:VCALENDAR